BEGIN:VCALENDAR
VERSION:2.0
PRODID:-//Bathampton Angling Association - ECPv6.8.3//NONSGML v1.0//EN
CALSCALE:GREGORIAN
METHOD:PUBLISH
X-ORIGINAL-URL:https://bathampton.org
X-WR-CALDESC:Events for Bathampton Angling Association
REFRESH-INTERVAL;VALUE=DURATION:PT1H
X-Robots-Tag:noindex
X-PUBLISHED-TTL:PT1H
BEGIN:VTIMEZONE
TZID:UTC
BEGIN:STANDARD
TZOFFSETFROM:+0000
TZOFFSETTO:+0000
TZNAME:UTC
DTSTART:20240101T000000
END:STANDARD
END:VTIMEZONE
BEGIN:VEVENT
DTSTART;VALUE=DATE:20241208
DTEND;VALUE=DATE:20241209
DTSTAMP:20260422T214731
CREATED:20241126T111452Z
LAST-MODIFIED:20241126T111452Z
UID:8254-1733616000-1733702399@bathampton.org
SUMMARY:Newbridge Open match 8th December
DESCRIPTION:DECEMBER CLOSURES \nHUNSTRETE \nDEC 22ND WITHYPOOL \nDEC 1ST NEWBRIDGE\n(WINTER LEAGUE) \nDEC 8TH NEWBRIDGE\n(OPEM MATCH) \nDEC 8TH CANAL\n(MEMORIAL MATCH) \nDEC 27TH NEWBRIDGE\n(XMAS MATCH)
URL:https://bathampton.org/event/newbridge-open-match-8th-december/
LOCATION:Newbridge\, bath\, ba2 9eu\, United Kingdom
CATEGORIES:River Closures
ATTACH;FMTTYPE=image/jpeg:https://bathampton.org/wp-content/uploads/2015/12/Newbridge-River-Avon-Bathampton-Angling-Association.jpg
END:VEVENT
END:VCALENDAR