BEGIN:VCALENDAR
VERSION:2.0
PRODID:-//Bathampton Angling Association - ECPv6.8.3//NONSGML v1.0//EN
CALSCALE:GREGORIAN
METHOD:PUBLISH
X-ORIGINAL-URL:https://bathampton.org
X-WR-CALDESC:Events for Bathampton Angling Association
REFRESH-INTERVAL;VALUE=DURATION:PT1H
X-Robots-Tag:noindex
X-PUBLISHED-TTL:PT1H
BEGIN:VTIMEZONE
TZID:UTC
BEGIN:STANDARD
TZOFFSETFROM:+0000
TZOFFSETTO:+0000
TZNAME:UTC
DTSTART:20250101T000000
END:STANDARD
END:VTIMEZONE
BEGIN:VEVENT
DTSTART;VALUE=DATE:20251012
DTEND;VALUE=DATE:20251013
DTSTAMP:20260420T063807
CREATED:20250522T151343Z
LAST-MODIFIED:20250524T120910Z
UID:8400-1760227200-1760313599@bathampton.org
SUMMARY:Rowing event October 12th
DESCRIPTION:Mini time trail from the Avon County end of the river upstream to Minerva as we have done in the last couple of years on the afternoon of Sunday 12th October (between 1pm and 5pm – precise time tbc but likely start around 2.30 and finish around 4). This is not much different from normal activity from the point of view of other river users but as we have guests from Holland participating as part of the town’s twinning association it is good to share this with you in advance.
URL:https://bathampton.org/event/rowing-event-october-12th/
LOCATION:Newbridge\, bath\, ba2 9eu\, United Kingdom
CATEGORIES:River Closures
ATTACH;FMTTYPE=image/jpeg:https://bathampton.org/wp-content/uploads/2015/12/Newbridge-River-Avon-Bathampton-Angling-Association.jpg
END:VEVENT
END:VCALENDAR