BEGIN:VCALENDAR
VERSION:2.0
PRODID:-//Bathampton Angling Association - ECPv6.8.3//NONSGML v1.0//EN
CALSCALE:GREGORIAN
METHOD:PUBLISH
X-ORIGINAL-URL:https://bathampton.org
X-WR-CALDESC:Events for Bathampton Angling Association
REFRESH-INTERVAL;VALUE=DURATION:PT1H
X-Robots-Tag:noindex
X-PUBLISHED-TTL:PT1H
BEGIN:VTIMEZONE
TZID:UTC
BEGIN:STANDARD
TZOFFSETFROM:+0000
TZOFFSETTO:+0000
TZNAME:UTC
DTSTART:20240101T000000
END:STANDARD
END:VTIMEZONE
BEGIN:VEVENT
DTSTART;VALUE=DATE:20240125
DTEND;VALUE=DATE:20240126
DTSTAMP:20260423T092550
CREATED:20240118T105827Z
LAST-MODIFIED:20240118T110855Z
UID:8021-1706140800-1706227199@bathampton.org
SUMMARY:Silver series match Thursday 25th January Withy pool
DESCRIPTION:Good morning all hope your all well. Due to the lakes being frozen and the match guys unable to break the ice on Withy Pool today the silver series match has been moved to next Thursday 25th Jan.
URL:https://bathampton.org/event/silver-series-match-thursday-25th-january-withy-pool/
LOCATION:Withy Pool Hunstrete\, Withy Pool\, BS394NT\, United Kingdom
CATEGORIES:Fishing Match,Lake Closure
ATTACH;FMTTYPE=image/jpeg:https://bathampton.org/wp-content/uploads/2020/05/IMG_E5685.jpg
END:VEVENT
END:VCALENDAR