BEGIN:VCALENDAR
VERSION:2.0
PRODID:-//Bathampton Angling Association - ECPv6.8.3//NONSGML v1.0//EN
CALSCALE:GREGORIAN
METHOD:PUBLISH
X-WR-CALNAME:Bathampton Angling Association
X-ORIGINAL-URL:https://bathampton.org
X-WR-CALDESC:Events for Bathampton Angling Association
REFRESH-INTERVAL;VALUE=DURATION:PT1H
X-Robots-Tag:noindex
X-PUBLISHED-TTL:PT1H
BEGIN:VTIMEZONE
TZID:UTC
BEGIN:STANDARD
TZOFFSETFROM:+0000
TZOFFSETTO:+0000
TZNAME:UTC
DTSTART:20250101T000000
END:STANDARD
END:VTIMEZONE
BEGIN:VEVENT
DTSTART;VALUE=DATE:20250906
DTEND;VALUE=DATE:20250907
DTSTAMP:20260422T015629
CREATED:20250906T074818Z
LAST-MODIFIED:20250906T074843Z
UID:8433-1757116800-1757203199@bathampton.org
SUMMARY:20th Sept Withy Pool Closed for 1 day
DESCRIPTION:We will be closing Withy Pool on the Hunstrete complex for one day on Saturday 20th September to allow us to work around the islands to tidy them up. There are branches\, line\, floats\, etc that need to be cleared. \n 
URL:https://bathampton.org/event/20th-sept-withy-pool-closed-for-1-day/
LOCATION:Withy Pool Hunstrete\, Withy Pool\, BS394NT\, United Kingdom
CATEGORIES:Lake Closure
ATTACH;FMTTYPE=image/jpeg:https://bathampton.org/wp-content/uploads/2020/05/IMG_E5685.jpg
END:VEVENT
END:VCALENDAR